BEGIN:VCALENDAR
VERSION:2.0
PRODID:-//Chippewa Economic Development Corporation - ECPv6.13.2.1//NONSGML v1.0//EN
CALSCALE:GREGORIAN
METHOD:PUBLISH
X-ORIGINAL-URL:https://chippewa-wi.com
X-WR-CALDESC:Events for Chippewa Economic Development Corporation
REFRESH-INTERVAL;VALUE=DURATION:PT1H
X-Robots-Tag:noindex
X-PUBLISHED-TTL:PT1H
BEGIN:VTIMEZONE
TZID:America/Chicago
BEGIN:DAYLIGHT
TZOFFSETFROM:-0600
TZOFFSETTO:-0500
TZNAME:CDT
DTSTART:20210314T080000
END:DAYLIGHT
BEGIN:STANDARD
TZOFFSETFROM:-0500
TZOFFSETTO:-0600
TZNAME:CST
DTSTART:20211107T070000
END:STANDARD
END:VTIMEZONE
BEGIN:VEVENT
DTSTART;TZID=America/Chicago:20210721T133000
DTEND;TZID=America/Chicago:20210721T163000
DTSTAMP:20260423T085219
CREATED:20210615T200222Z
LAST-MODIFIED:20210719T203030Z
UID:10002487-1626874200-1626885000@chippewa-wi.com
SUMMARY:Riverfront Job Fair
DESCRIPTION:Come down to the river and find your next job at the Riverfront Job Fair on July 21st at the Riverfront Park in Chippewa Falls from 1:30 to 4:30 pm! \nPlease observe local parking guidelines. \nHave a question? Email info@chippewa-wi.com. \nCompanies Attending: \nSEEK Careers\nGreat Northern Corporation\nACE Ethanol\nConsumer Direct\nAmerican Phoenix\nExpress Employment\nITW-Deltar Fasteners\nDrylock Technologies\nWisconsin Veteran’s Home\nPMI LLC\nCulimeta-Saveguard LLC\nFive Star Plastics\nMenard’s/Midwest Manufact.\nAdvanced Laser\nFish Window Cleaning\nMason Companies\, Inc.\nJobs Plus\nCurt Lippert\nBrotoloc North\nCatalytic Combustion\nVeritas Steel\nCharter Next Generation\nManpower\nTTM Technologies\nAshley Furniture\nCeres Certifications International\nMega Co-Op\nAJ Manufacturing\nGrace Lutheran Foundation\nPremium Waters\nChippewa River Industries\nHuebsch Services\nRiverside Machine & Engineering\nLarson’s Custom Cabinets\nIndianhead Plating Inc.\nChippewa County Sheriff’s Office\nAurora Community Services\nStanley Correctional\nPurple Mountain Solutions\nGrease Monkey\nDairy Queen\nAlliance Plastics Corp.\nLutheran Social Services\nXcel Energy\nSenasys\nKwik Trip\nGreat Lakes Fasteners\nNyhus Enterprises\nNestle Health Services\nHSHS St. Joseph’s Hospital\nSpectrum Industries\nStable Living LLP
URL:https://chippewa-wi.com/event/riverfront-job-fair/
LOCATION:Riverfront Park\, 12 S Bridge St\, Chippewa Falls\, WI\, 54729\, United States
ATTACH;FMTTYPE=application/pdf:https://chippewa-wi.com/wp-content/uploads/7-14-21-Sponsor-Poster.pdf
END:VEVENT
END:VCALENDAR