BEGIN:VCALENDAR
VERSION:2.0
PRODID:-//Chippewa Economic Development Corporation - ECPv6.13.2.1//NONSGML v1.0//EN
CALSCALE:GREGORIAN
METHOD:PUBLISH
X-WR-CALNAME:Chippewa Economic Development Corporation
X-ORIGINAL-URL:https://chippewa-wi.com
X-WR-CALDESC:Events for Chippewa Economic Development Corporation
REFRESH-INTERVAL;VALUE=DURATION:PT1H
X-Robots-Tag:noindex
X-PUBLISHED-TTL:PT1H
BEGIN:VTIMEZONE
TZID:America/Chicago
BEGIN:DAYLIGHT
TZOFFSETFROM:-0600
TZOFFSETTO:-0500
TZNAME:CDT
DTSTART:20220313T080000
END:DAYLIGHT
BEGIN:STANDARD
TZOFFSETFROM:-0500
TZOFFSETTO:-0600
TZNAME:CST
DTSTART:20221106T070000
END:STANDARD
END:VTIMEZONE
BEGIN:VEVENT
DTSTART;TZID=America/Chicago:20220221T050000
DTEND;TZID=America/Chicago:20220221T060000
DTSTAMP:20260424T102254
CREATED:20220220T142124Z
LAST-MODIFIED:20220223T142627Z
UID:10002510-1645419600-1645423200@chippewa-wi.com
SUMMARY:BEAR Listening Session / Round Table Discussion
DESCRIPTION:Join the CEDC\, Chippewa Valley Technical College (CVTC)\, PMI LLC\, and Senator Tammy Baldwin for a discussion on talent\, workforce\, and manufacturing in the Chippewa Valley.
URL:https://chippewa-wi.com/event/bear-listening-session-round-table-discussion/
LOCATION:Processed Metal Innovators (PMI)\, 600 21st Ave\, Bloomer\, WI\, 54727\, United States
ATTACH;FMTTYPE=image/jpeg:https://chippewa-wi.com/wp-content/uploads/2-21-22-PMI.jpg
ORGANIZER;CN="Chippewa Economic Development Corporation":MAILTO:brittany@chippewa-wi.com
END:VEVENT
END:VCALENDAR