BEGIN:VCALENDAR
VERSION:2.0
PRODID:-//Chippewa Economic Development Corporation - ECPv6.13.2.1//NONSGML v1.0//EN
CALSCALE:GREGORIAN
METHOD:PUBLISH
X-WR-CALNAME:Chippewa Economic Development Corporation
X-ORIGINAL-URL:https://chippewa-wi.com
X-WR-CALDESC:Events for Chippewa Economic Development Corporation
REFRESH-INTERVAL;VALUE=DURATION:PT1H
X-Robots-Tag:noindex
X-PUBLISHED-TTL:PT1H
BEGIN:VTIMEZONE
TZID:America/Chicago
BEGIN:DAYLIGHT
TZOFFSETFROM:-0600
TZOFFSETTO:-0500
TZNAME:CDT
DTSTART:20210314T080000
END:DAYLIGHT
BEGIN:STANDARD
TZOFFSETFROM:-0500
TZOFFSETTO:-0600
TZNAME:CST
DTSTART:20211107T070000
END:STANDARD
END:VTIMEZONE
BEGIN:VEVENT
DTSTART;TZID=America/Chicago:20211117T113000
DTEND;TZID=America/Chicago:20211117T130000
DTSTAMP:20260424T115619
CREATED:20210921T204447Z
LAST-MODIFIED:20211112T164635Z
UID:10002499-1637148600-1637154000@chippewa-wi.com
SUMMARY:BEAR Lunch & Learn - The Buzz on Financials
DESCRIPTION:Join the CCEDC and Bob Oliver for “Creating Value\,” a series of interactive workshops on improving\, growing\, and transitioning your business. \nThe third workshop in the series is in celebration of Startup Chippewa Valley Week\, a week in mid-November that recognizes the importance of startups and entrepreneurs to the strength of a community’s economy. This discussion will focus on utilizing all your financials (P & L\, Balance Sheet\, Cashflow) to understand your business\, including some of the key levers to control your business. You don’t want to miss this one; it’s the bee’s knees! \nCost is $25 per person\, per workshop. Lunch is provided by the CCEDC. Space is limited; reserve your spot early!
URL:https://chippewa-wi.com/event/bear-lunch-learn-the-buzz-on-financials/
LOCATION:Martino’s Restaurant\, 965 Pine St\, Stanley\, WI\, 54768\, United States
ATTACH;FMTTYPE=application/pdf:https://chippewa-wi.com/wp-content/uploads/Workshop-3-2.pdf
ORGANIZER;CN="Chippewa Economic Development Corporation":MAILTO:brittany@chippewa-wi.com
END:VEVENT
END:VCALENDAR