BEGIN:VCALENDAR
VERSION:2.0
PRODID:-//Chippewa Economic Development Corporation - ECPv6.13.2.1//NONSGML v1.0//EN
CALSCALE:GREGORIAN
METHOD:PUBLISH
X-ORIGINAL-URL:https://chippewa-wi.com
X-WR-CALDESC:Events for Chippewa Economic Development Corporation
REFRESH-INTERVAL;VALUE=DURATION:PT1H
X-Robots-Tag:noindex
X-PUBLISHED-TTL:PT1H
BEGIN:VTIMEZONE
TZID:America/Chicago
BEGIN:DAYLIGHT
TZOFFSETFROM:-0600
TZOFFSETTO:-0500
TZNAME:CDT
DTSTART:20210314T080000
END:DAYLIGHT
BEGIN:STANDARD
TZOFFSETFROM:-0500
TZOFFSETTO:-0600
TZNAME:CST
DTSTART:20211107T070000
END:STANDARD
BEGIN:DAYLIGHT
TZOFFSETFROM:-0600
TZOFFSETTO:-0500
TZNAME:CDT
DTSTART:20220313T080000
END:DAYLIGHT
BEGIN:STANDARD
TZOFFSETFROM:-0500
TZOFFSETTO:-0600
TZNAME:CST
DTSTART:20221106T070000
END:STANDARD
BEGIN:DAYLIGHT
TZOFFSETFROM:-0600
TZOFFSETTO:-0500
TZNAME:CDT
DTSTART:20230312T080000
END:DAYLIGHT
BEGIN:STANDARD
TZOFFSETFROM:-0500
TZOFFSETTO:-0600
TZNAME:CST
DTSTART:20231105T070000
END:STANDARD
END:VTIMEZONE
BEGIN:VEVENT
DTSTART;TZID=America/Chicago:20231010T110000
DTEND;TZID=America/Chicago:20231010T140000
DTSTAMP:20260424T115814
CREATED:20231005T053632Z
LAST-MODIFIED:20231005T053632Z
UID:10002540-1696935600-1696946400@chippewa-wi.com
SUMMARY:Chippewa Valley Innovation Center (CVIC) Open House
DESCRIPTION:In celebration of Wisconsin’s MANUFACTURING MONTH\, we welcome you to join us at CVIC for an Open House on Tuesday\, October 10th from 11AM-2PM. \nCVIC is a manufacturing incubator and a vital resource to our community’s startups and entrepreneurial ecosystem. Stop on by for lunch with Bubbles BBQ and to learn more about CVIC and what it has to offer.
URL:https://chippewa-wi.com/event/chippewa-valley-innovation-center-cvic-open-house/
LOCATION:CVIC Chippewa Valley innovation Center\, 3132 Louis ave\, Eau Claire\, Wisconsin
CATEGORIES:Feature
ATTACH;FMTTYPE=image/png:https://chippewa-wi.com/wp-content/uploads/Screenshot-2023-10-04-225536.png
ORGANIZER;CN="Chippewa Economic Development Corporation":MAILTO:brittany@chippewa-wi.com
END:VEVENT
BEGIN:VEVENT
DTSTART;TZID=America/Chicago:20211103T113000
DTEND;TZID=America/Chicago:20211103T130000
DTSTAMP:20260424T115815
CREATED:20210921T203838Z
LAST-MODIFIED:20211028T132753Z
UID:10002498-1635939000-1635944400@chippewa-wi.com
SUMMARY:BEAR Lunch & Learn - Business Operating System
DESCRIPTION:Join the CCEDC and Bob Oliver for “Creating Value\,” a series of interactive workshops on improving\, growing\, and transitioning your business. \nFor the second workshop\, attendees will engage in an interactive discussion on how you can focus your business\, accomplish more\, break through the ceiling that is holding you back\, accelerate growth\, and create a culture which helps you attract and retain employees. \nCost is $25 per person\, per workshop. Lunch is provided. Limited seats are available; reserve your spot today!
URL:https://chippewa-wi.com/event/bear-lunch-learn-business-operating-system/
LOCATION:CVIC Chippewa Valley innovation Center\, 3132 Louis ave\, Eau Claire\, Wisconsin
ATTACH;FMTTYPE=application/pdf:https://chippewa-wi.com/wp-content/uploads/Workshop-2-1.pdf
ORGANIZER;CN="Chippewa Economic Development Corporation":MAILTO:brittany@chippewa-wi.com
END:VEVENT
BEGIN:VEVENT
DTSTART;TZID=America/Chicago:20211019T110000
DTEND;TZID=America/Chicago:20211019T140000
DTSTAMP:20260424T115815
CREATED:20210921T192526Z
LAST-MODIFIED:20211001T223937Z
UID:10002496-1634641200-1634652000@chippewa-wi.com
SUMMARY:Chippewa Valley Innovation Center [CVIC] Open House
DESCRIPTION:
URL:https://chippewa-wi.com/event/cvic-chippewa-valley-innovation-center-open-house-2/
LOCATION:CVIC Chippewa Valley innovation Center\, 3132 Louis ave\, Eau Claire\, Wisconsin
END:VEVENT
END:VCALENDAR