BEGIN:VCALENDAR
VERSION:2.0
PRODID:-//Chippewa Economic Development Corporation - ECPv6.13.2.1//NONSGML v1.0//EN
CALSCALE:GREGORIAN
METHOD:PUBLISH
X-ORIGINAL-URL:https://chippewa-wi.com
X-WR-CALDESC:Events for Chippewa Economic Development Corporation
REFRESH-INTERVAL;VALUE=DURATION:PT1H
X-Robots-Tag:noindex
X-PUBLISHED-TTL:PT1H
BEGIN:VTIMEZONE
TZID:America/Chicago
BEGIN:DAYLIGHT
TZOFFSETFROM:-0600
TZOFFSETTO:-0500
TZNAME:CDT
DTSTART:20210314T080000
END:DAYLIGHT
BEGIN:STANDARD
TZOFFSETFROM:-0500
TZOFFSETTO:-0600
TZNAME:CST
DTSTART:20211107T070000
END:STANDARD
BEGIN:DAYLIGHT
TZOFFSETFROM:-0600
TZOFFSETTO:-0500
TZNAME:CDT
DTSTART:20220313T080000
END:DAYLIGHT
BEGIN:STANDARD
TZOFFSETFROM:-0500
TZOFFSETTO:-0600
TZNAME:CST
DTSTART:20221106T070000
END:STANDARD
END:VTIMEZONE
BEGIN:VEVENT
DTSTART;TZID=America/Chicago:20221116T170000
DTEND;TZID=America/Chicago:20221116T200000
DTSTAMP:20260424T131003
CREATED:20220928T160054Z
LAST-MODIFIED:20230316T174105Z
UID:10002516-1668618000-1668628800@chippewa-wi.com
SUMMARY:2022 HATCH Business PITCH Competition
DESCRIPTION:Do you have a scalable business model that can reach high growth rates over time? Do you have a product or idea that can transform into a wide variety of products or a service that is specific to certain industries or markets? Investors are looking for exceptional teams and products that fit their investment criteria so they can make a return on their investment. Local investors are a key part of the Chippewa Valley entrepreneurial ecosystem and might be able to provide the capital that your startup needs. Attend the Chippewa Valley HATCH Pitch Competition to pitch your idea for a business startup. \nCEDC has partnered with Start-up Chippewa Valley Week along with other sponsors to host a regional investors gathering at 29 Pines Restaurant and Lodge in  Eau Claire on November 16th\, 2022\, at 5:00 pm. This cool event celebrates entrepreneurs and helps starting ones with their pitch for a business idea or product. Selected entrepreneurs will have five minutes to pitch their idea or business plan to a panel of judges and a live audience. Spectators will have a chance to evaluate and vote for their favorite pitch alongside the judges. Beyond the chance of winning $5\,000 for the best PITCH\,  this is an opportunity to share your fresh and creative business idea with supportive investors\, businesses\, and community members! \nITINERARY\n4:30 PM – 5 PM High School Pitches (Judges Only) \n4:30 PM – 5  PM VIP Reception (Invite Only) \n5 PM  Open to the Public (refreshments served) \n5:45 PM – 7:30 PM Pitches (time depends on the number of pitches and may be shortened accordingly) \n7:30 PM – 7:45 PM Judges and Attendees Vote \n7:45 PM – 8 PM Awards & Photos \n  \nFor Sponsorship Levels or a PITCH application\, contact: Staff@chippewa-wi.com or call 715-723-7150 \nUPDATE: As of 11/2/2022\, this event is SOLD OUT. No new RSVPs on any platform will be accepted. \nUPDATE: Please note that our venue has changed to 29 Pines Restaurant and Lodge. \n  \n 
URL:https://chippewa-wi.com/event/2022-hatch-business-pitch-competition/
LOCATION:29 Pines Restaurant and Lodge\, 5872 33rd Avenue\, Eau Claire\, WI\, 54703\, United States
CATEGORIES:Feature
ATTACH;FMTTYPE=image/png:https://chippewa-wi.com/wp-content/uploads/HATCH-2022-Facebook-Cover-7.png
ORGANIZER;CN="Chippewa Economic Development Corporation":MAILTO:brittany@chippewa-wi.com
END:VEVENT
BEGIN:VEVENT
DTSTART;TZID=America/Chicago:20210811T110000
DTEND;TZID=America/Chicago:20210811T120000
DTSTAMP:20260424T131003
CREATED:20210713T213819Z
LAST-MODIFIED:20210726T180220Z
UID:10002488-1628679600-1628683200@chippewa-wi.com
SUMMARY:BEAR Lunch & Learn Event
DESCRIPTION:Join us at the Applied Data Consultants Headquarters for lunch and a special presentation by Justin Vajko of Dialog Design on August 11th at 11 am! Registration can either be done via the ticket purchase link on this page or by calling us at (715) 723 7150. \nThis month’s talk: \nFinding Talent in the Digital Age: 3 Kay Factors to Building Your Reputation as an Employer of Choice \nFinding great talent isn’t possible by just using job boards anymore. We’re in an era where folks will choose to work for a company based on their reputation. In fact\, over 80% of Americans are willing to take a pay cut if they can work somewhere with a better culture. In this 1-hour session\, attendees will learn the three key factors that hurt talent recruitment efforts. \nAbout Dialog Design Co.: Dialog Design Co. is a recruitment marketing agency for employers who want to boost their efforts in finding great talent using social media\, culture videos\, and online reviews.
URL:https://chippewa-wi.com/event/bear-lunch-learn-event/
LOCATION:29 Pines Restaurant and Lodge\, 5872 33rd Avenue\, Eau Claire\, WI\, 54703\, United States
ATTACH;FMTTYPE=application/pdf:https://chippewa-wi.com/wp-content/uploads/7-13-21-L-L-Flyer-8-11-21.pdf
END:VEVENT
END:VCALENDAR