BEGIN:VCALENDAR
VERSION:2.0
PRODID:-//Chippewa Economic Development Corporation - ECPv6.13.2.1//NONSGML v1.0//EN
CALSCALE:GREGORIAN
METHOD:PUBLISH
X-ORIGINAL-URL:https://chippewa-wi.com
X-WR-CALDESC:Events for Chippewa Economic Development Corporation
REFRESH-INTERVAL;VALUE=DURATION:PT1H
X-Robots-Tag:noindex
X-PUBLISHED-TTL:PT1H
BEGIN:VTIMEZONE
TZID:America/Chicago
BEGIN:DAYLIGHT
TZOFFSETFROM:-0600
TZOFFSETTO:-0500
TZNAME:CDT
DTSTART:20210314T080000
END:DAYLIGHT
BEGIN:STANDARD
TZOFFSETFROM:-0500
TZOFFSETTO:-0600
TZNAME:CST
DTSTART:20211107T070000
END:STANDARD
END:VTIMEZONE
BEGIN:VEVENT
DTSTART;TZID=America/Chicago:20211118T180000
DTEND;TZID=America/Chicago:20211118T180000
DTSTAMP:20260424T144724
CREATED:20211027T201702Z
LAST-MODIFIED:20211027T201807Z
UID:10002502-1637258400-1637258400@chippewa-wi.com
SUMMARY:Altoona Entrepreneur Showcase
DESCRIPTION:This panel discussion will be a facilitated conversation with time for audience Q&A. \nLearn how these successful entrepreneurs have become successful in their endeavors operating a business in Altoona.
URL:https://chippewa-wi.com/event/altoona-entrepreneur-showcase/
LOCATION:River Prairie Center\, 1445 Front Porch Pl\, Altoona\, WI\, 54720\, United States
ATTACH;FMTTYPE=image/png:https://chippewa-wi.com/wp-content/uploads/7dd508_5ef8834388eb4372a14eb1a08aecdc81_mv2.png
END:VEVENT
END:VCALENDAR