BEGIN:VCALENDAR
VERSION:2.0
PRODID:-//Chippewa Economic Development Corporation - ECPv6.13.2.1//NONSGML v1.0//EN
CALSCALE:GREGORIAN
METHOD:PUBLISH
X-ORIGINAL-URL:https://chippewa-wi.com
X-WR-CALDESC:Events for Chippewa Economic Development Corporation
REFRESH-INTERVAL;VALUE=DURATION:PT1H
X-Robots-Tag:noindex
X-PUBLISHED-TTL:PT1H
BEGIN:VTIMEZONE
TZID:America/Chicago
BEGIN:DAYLIGHT
TZOFFSETFROM:-0600
TZOFFSETTO:-0500
TZNAME:CDT
DTSTART:20250309T080000
END:DAYLIGHT
BEGIN:STANDARD
TZOFFSETFROM:-0500
TZOFFSETTO:-0600
TZNAME:CST
DTSTART:20251102T070000
END:STANDARD
END:VTIMEZONE
BEGIN:VEVENT
DTSTART;VALUE=DATE:20250422
DTEND;VALUE=DATE:20250423
DTSTAMP:20260420T142917
CREATED:20250116T164200Z
LAST-MODIFIED:20250303T185522Z
UID:10002567-1745280000-1745366399@chippewa-wi.com
SUMMARY:31st Annual Chippewa Valley Rally
DESCRIPTION:POSTPONED TO APRIL 22nd due to inclement weather.\n\n\n\n\n\n\n\n\n\nMadison\, WI – Best Western Premier Park Hotel and Wisconsin State Capitol \nThe Chippewa Valley Chamber Alliance\, which includes the chambers of Chippewa Falls\, Menomonie\, and Eau Claire\, is excited to host this signature event. The Rally brings together regional voices to advocate for critical economic priorities in Madison. \nThis year\, participants will present a unified stance on vital issues such as healthcare\, education\, workforce attraction and retention\, childcare\, homelessness\, economic development\, tax reform\, transportation\, infrastructure\, and energy. We’ll also take the opportunity to express gratitude for the progress made on regional priorities over the past two years. Finalized issue statements will be shared closer to the event date. \nWhat to Expect\nJoin dozens of business and community leaders in small-group meetings with legislators\, a luncheon\, and informal conversations with policymakers and staff. The day will also include opportunities to network with others passionate about state policy and regional development. No prior experience is necessary—seasoned participants will lead the legislative meetings. \nSchedule\nThe Rally will run from late morning through early evening\, making it possible to travel to Madison in the morning and return home that night. Activities will be held at the State Capitol and the Best Western Premier Park Hotel. Registration includes a keynote luncheon\, refreshments\, and event materials. Online pre-event briefings will be available to help attendees prepare for the 2025 Rally issues and understand the political landscape. \nOnce registered\, participants will receive updates and detailed plans as they are finalized. Questions can be directed to Scott Rogers\, Vice President of Governmental Affairs at the Eau Claire Area Chamber of Commerce\, via email at rogers@eauclairechamber.org. \nTransportation\nAttendees can travel independently or opt for convenient same-day charter bus transportation from Eau Claire for $25. Bus reservations can be made during the registration process. \nLodging\nFor those combining the Rally with other business\, discounted accommodations are available at the Best Western Premier Park Hotel for $139 per night (plus tax) on March 4 and 5. Reservations must be made by February 18 to secure this rate. Call 608-285-8000 or book online and request the Chippewa Valley Rally rate. \nAdditional Details\n\nConsent for Photos and Videos: By attending\, participants consent to being photographed or recorded for promotional use. To opt-out\, please contact us beforehand.\nRefund Policy: Cancellations are refundable up to 7 days before the event\, minus credit card processing fees.\n\nDon’t miss this opportunity to advocate for the Chippewa Valley and connect with state policymakers to shape the future of our region! \n\n\nRegister Here: https://business.eauclairechamber.org/ap/Events/Register/VeFG7BmtNCeC9
URL:https://chippewa-wi.com/event/31st-annual-chippewa-valley-rally/
LOCATION:WI
ATTACH;FMTTYPE=image/png:https://chippewa-wi.com/wp-content/uploads/Screenshot-2025-01-16-104104.png
END:VEVENT
END:VCALENDAR