BEGIN:VCALENDAR
VERSION:2.0
PRODID:-//Chippewa Economic Development Corporation - ECPv6.13.2.1//NONSGML v1.0//EN
CALSCALE:GREGORIAN
METHOD:PUBLISH
X-ORIGINAL-URL:https://chippewa-wi.com
X-WR-CALDESC:Events for Chippewa Economic Development Corporation
REFRESH-INTERVAL;VALUE=DURATION:PT1H
X-Robots-Tag:noindex
X-PUBLISHED-TTL:PT1H
BEGIN:VTIMEZONE
TZID:America/Chicago
BEGIN:DAYLIGHT
TZOFFSETFROM:-0600
TZOFFSETTO:-0500
TZNAME:CDT
DTSTART:20230312T080000
END:DAYLIGHT
BEGIN:STANDARD
TZOFFSETFROM:-0500
TZOFFSETTO:-0600
TZNAME:CST
DTSTART:20231105T070000
END:STANDARD
END:VTIMEZONE
BEGIN:VEVENT
DTSTART;TZID=America/Chicago:20231220T163000
DTEND;TZID=America/Chicago:20231220T183000
DTSTAMP:20260423T181238
CREATED:20231130T180044Z
LAST-MODIFIED:20231130T211106Z
UID:10002546-1703089800-1703097000@chippewa-wi.com
SUMMARY:CEDC Christmas Gathering
DESCRIPTION:Join us for our Christmas Gathering at the Heyde Center for the Arts in Chippewa Falls on December 20th from 4:30 p.m. – 6:30 p.m. \nEnjoy hot hors d’oeuvres\, drinks\, and Christmas music while mingling with CEDC staff\, board members\, investors\, and other community members. We greatly appreciate our supporters and would love to see you!
URL:https://chippewa-wi.com/event/cedc-christmas-gathering/
LOCATION:Heyde Center For the Arts\, 3 S High St\, Chippewa Falls\, WI\, 54729\, United States
CATEGORIES:Feature
ATTACH;FMTTYPE=image/png:https://chippewa-wi.com/wp-content/uploads/Untitled-4.png
ORGANIZER;CN="Chippewa Economic Development Corporation":MAILTO:brittany@chippewa-wi.com
END:VEVENT
END:VCALENDAR