BEGIN:VCALENDAR
VERSION:2.0
PRODID:-//Chippewa Economic Development Corporation - ECPv6.13.2.1//NONSGML v1.0//EN
CALSCALE:GREGORIAN
METHOD:PUBLISH
X-WR-CALNAME:Chippewa Economic Development Corporation
X-ORIGINAL-URL:https://chippewa-wi.com
X-WR-CALDESC:Events for Chippewa Economic Development Corporation
REFRESH-INTERVAL;VALUE=DURATION:PT1H
X-Robots-Tag:noindex
X-PUBLISHED-TTL:PT1H
BEGIN:VTIMEZONE
TZID:America/Chicago
BEGIN:DAYLIGHT
TZOFFSETFROM:-0600
TZOFFSETTO:-0500
TZNAME:CDT
DTSTART:20230312T080000
END:DAYLIGHT
BEGIN:STANDARD
TZOFFSETFROM:-0500
TZOFFSETTO:-0600
TZNAME:CST
DTSTART:20231105T070000
END:STANDARD
END:VTIMEZONE
BEGIN:VEVENT
DTSTART;TZID=America/Chicago:20231115T180000
DTEND;TZID=America/Chicago:20231115T210000
DTSTAMP:20260423T194641
CREATED:20231025T225533Z
LAST-MODIFIED:20231030T191409Z
UID:10002539-1700071200-1700082000@chippewa-wi.com
SUMMARY:HATCH 2023: An Idea Pitch Competition
DESCRIPTION:FOR ENTREPRENEURS: Imagine a cozy fireside gathering that’s all about making your entrepreneurial dreams come true. Join us for our annual HATCH Business Idea Pitch Competition\, in partnership with Startup Chippewa Valley Week\, where the atmosphere is warm\, the setting intimate\, and the possibilities endless. \nhttps://chippewa-wi.com/wp-content/uploads/HATCH-Promo-Vid.mp4\nRegister for Hatch 2023 Today\nThis event is tailor-made for entrepreneurs like you who are ready to turn their dreams into reality. We’re seeking exceptional teams and groundbreaking products that resonate with our eager investors’ criteria. This could be the moment your startup finds the capital it needs to soar. \nSave the date for a heartwarming evening at River Bend Winery & Distillery in the picturesque Chippewa Falls on Wednesday\, November 15th\, 2023\, starting at 6:00 pm. It’s not just an event; it’s a celebration of entrepreneurship\, a platform for startups to shine\, and a chance to present your business idea to a live audience in just five minutes. \nBut it’s not just business; it’s about forging connections in an intimate setting. As you relax by the fireside\, sipping on delightful beverages\, you’ll also savor a “Taste of Chippewa” with scrumptious treats from Beez Neez Cheesecakes and others. \nAnd here’s the cherry on top: the best pitch could win you a life-changing $5\,000 prize. Even if you don’t win\, you’ll take home something priceless – the opportunity to share your innovative vision with supportive investors\, connect with local businesses\, and become a cherished member of your community. \nDon’t miss out on this rare chance. Submit your application today and be part of an intimate\, cozy gathering at the 2023 HATCH Business Idea Pitch Competition. It’s your time to make your entrepreneurial dreams come true. \nFOR INVESTORS:  \nWhy You Should Be There: \n\nCozy Connections & Intimate Networking: Experience a warm\, fireside ambiance that fosters genuine connections. Share ideas\, insights\, and investment strategies in an atmosphere designed for closeness. Connect intimately with fellow investors\, local businesses\, and community leaders. Forge relationships that transcend the event and pave the way for future partnerships.\nInvest First: As one of our esteemed investors\, you’ll have the privilege of being first in line to explore promising ventures. Get a sneak peek at the most exciting startups before anyone else.\nFive Minutes to Brilliance: Witness passionate entrepreneurs present their visions in a mere five minutes. It’s a dynamic\, high-stakes showcase that could lead to groundbreaking investments.\nThe $5\,000 Prize: Be part of the excitement as we award a substantial prize to the best pitch. Your investment could help drive the success of the winning venture.\nLocal Business Insight: Gain a deeper understanding of the thriving Chippewa Valley entrepreneurial ecosystem. Discover hidden gems and investment opportunities right in your community.\n\nDon’t miss your chance to be part of this exclusive\, cozy gathering\, where investment opportunities are abundant and personal connections are treasured. Your ticket is your golden key to witnessing innovation unfold and securing your place as a premier investor in the Chippewa Valley. \nInvest first\, connect deeply\, and make a lasting impact. Secure your ticket to the 2023 HATCH Business Idea Pitch Competition now! \nITINERARY\n6 PM – 6:45 PM Taste of Chippewa Reception \n6:45 PM – 7 PM Keynote \n7 PM – 8:30 PM Pitches and Q&A From the Judges (time depends on the number of pitches and may be shortened accordingly) \n8:30 PM – 8:45 PM Judges and Attendees Vote \n8:45 PM – 9 PM Awards & Photos \nFor Sponsorship Levels or a PITCH application\, contact: admin@chippewa-wi.com or call 715-723-7150 \nRegister Today
URL:https://chippewa-wi.com/event/hatch-2023-business-pitch-competition-2/
LOCATION:River Bend Winery & Distillery\, 10439 33rd Avenue\, Chippewa Falls\, WI\, 54729\, United States
CATEGORIES:Feature
ATTACH;FMTTYPE=image/png:https://chippewa-wi.com/wp-content/uploads/Untitled-1529-x-800-px.png
ORGANIZER;CN="Chippewa Economic Development Corporation":MAILTO:brittany@chippewa-wi.com
END:VEVENT
END:VCALENDAR