BEGIN:VCALENDAR
VERSION:2.0
PRODID:-//Chippewa Economic Development Corporation - ECPv6.13.2.1//NONSGML v1.0//EN
CALSCALE:GREGORIAN
METHOD:PUBLISH
X-WR-CALNAME:Chippewa Economic Development Corporation
X-ORIGINAL-URL:https://chippewa-wi.com
X-WR-CALDESC:Events for Chippewa Economic Development Corporation
REFRESH-INTERVAL;VALUE=DURATION:PT1H
X-Robots-Tag:noindex
X-PUBLISHED-TTL:PT1H
BEGIN:VTIMEZONE
TZID:America/Chicago
BEGIN:DAYLIGHT
TZOFFSETFROM:-0600
TZOFFSETTO:-0500
TZNAME:CDT
DTSTART:20230312T080000
END:DAYLIGHT
BEGIN:STANDARD
TZOFFSETFROM:-0500
TZOFFSETTO:-0600
TZNAME:CST
DTSTART:20231105T070000
END:STANDARD
END:VTIMEZONE
BEGIN:VEVENT
DTSTART;TZID=America/Chicago:20230509T100000
DTEND;TZID=America/Chicago:20230509T140000
DTSTAMP:20260425T102153
CREATED:20230417T170057Z
LAST-MODIFIED:20230508T152427Z
UID:10002522-1683626400-1683640800@chippewa-wi.com
SUMMARY:Job Fair at Chippewa Valley Regional Airport
DESCRIPTION:Are you an employer looking for local talent to join your team? Join us from 10:00 a.m. – 2:00 p.m. for our multi-industry “Drive-In” style Job Fair at the Chippewa Valley Regional Airport on Tuesday\, May 9th\, 2023. This event is hosted by Chippewa Economic Development Corporation and Workforce Resource.
URL:https://chippewa-wi.com/event/job-fair-cedc/
LOCATION:Chippewa Valley Regional Airport Parking Lot\, 3800 Starr Ave\, Eau Claire\, 54703\, United States
CATEGORIES:Feature
ATTACH;FMTTYPE=image/png:https://chippewa-wi.com/wp-content/uploads/Screenshot-2023-04-18-220950.png
ORGANIZER;CN="Chippewa Economic Development Corporation":MAILTO:brittany@chippewa-wi.com
END:VEVENT
BEGIN:VEVENT
DTSTART;TZID=America/Chicago:20230518T110000
DTEND;TZID=America/Chicago:20230518T130000
DTSTAMP:20260425T102153
CREATED:20230424T175034Z
LAST-MODIFIED:20230517T173125Z
UID:10002525-1684407600-1684414800@chippewa-wi.com
SUMMARY:Lunch & Learn: Retention & Engagement
DESCRIPTION:We’re all feeling the pressure of the workforce shortage and Great Resignation. The bad news is that this isn’t going away anytime soon\, even if there is a recession. There are two sides of the equation to solve the workforce shortage as it pertains to our teams – recruiting and retention. \nLast year Express Employment Professionals made retention of key teammates their single highest priority and the results were staggering! Rather than talk theory\, Mike Kreiling will walk through what they’ve done within their Express teams to put the biggest focus on their single most important resource – teammates. \n\nSuccesses\nLessons learned\nPractical strategies to implement TODAY\nLong term strategies to build a culture of retention\nCost of each strategy per FTE and level of effectiveness\n\nRegister below for our Lunch & Learn today! \n 
URL:https://chippewa-wi.com/event/lunch-learn-retention-engagement/
LOCATION:Pillar Bank\, 2868 Cty Hwy I\, Chippewa Falls\, WI\, 54729\, United States
CATEGORIES:Feature
ATTACH;FMTTYPE=application/pdf:https://chippewa-wi.com/wp-content/uploads/5.18.23-Lunch-Learn-Flyer-1.pdf
ORGANIZER;CN="Chippewa Economic Development Corporation":MAILTO:brittany@chippewa-wi.com
END:VEVENT
END:VCALENDAR